BEGIN:VCALENDAR
VERSION:2.0
PRODID:-//Nok. Elverum - ECPv6.15.20//NONSGML v1.0//EN
CALSCALE:GREGORIAN
METHOD:PUBLISH
X-WR-CALNAME:Nok. Elverum
X-ORIGINAL-URL:https://nokelverum.no
X-WR-CALDESC:Arrangement for Nok. Elverum
REFRESH-INTERVAL;VALUE=DURATION:PT1H
X-Robots-Tag:noindex
X-PUBLISHED-TTL:PT1H
BEGIN:VTIMEZONE
TZID:Europe/Oslo
BEGIN:DAYLIGHT
TZOFFSETFROM:+0100
TZOFFSETTO:+0200
TZNAME:CEST
DTSTART:20240331T010000
END:DAYLIGHT
BEGIN:STANDARD
TZOFFSETFROM:+0200
TZOFFSETTO:+0100
TZNAME:CET
DTSTART:20241027T010000
END:STANDARD
BEGIN:DAYLIGHT
TZOFFSETFROM:+0100
TZOFFSETTO:+0200
TZNAME:CEST
DTSTART:20250330T010000
END:DAYLIGHT
BEGIN:STANDARD
TZOFFSETFROM:+0200
TZOFFSETTO:+0100
TZNAME:CET
DTSTART:20251026T010000
END:STANDARD
BEGIN:DAYLIGHT
TZOFFSETFROM:+0100
TZOFFSETTO:+0200
TZNAME:CEST
DTSTART:20260329T010000
END:DAYLIGHT
BEGIN:STANDARD
TZOFFSETFROM:+0200
TZOFFSETTO:+0100
TZNAME:CET
DTSTART:20261025T010000
END:STANDARD
BEGIN:DAYLIGHT
TZOFFSETFROM:+0100
TZOFFSETTO:+0200
TZNAME:CEST
DTSTART:20270328T010000
END:DAYLIGHT
BEGIN:STANDARD
TZOFFSETFROM:+0200
TZOFFSETTO:+0100
TZNAME:CET
DTSTART:20271031T010000
END:STANDARD
END:VTIMEZONE
BEGIN:VEVENT
DTSTART;TZID=Europe/Oslo:20251203T123000
DTEND;TZID=Europe/Oslo:20251203T133000
DTSTAMP:20260424T175804
CREATED:20251202T114447Z
LAST-MODIFIED:20251202T114447Z
UID:6118-1764765000-1764768600@nokelverum.no
SUMMARY:TRYGG GRUNN BALANSE GRUPPE 12.30 - 13.30
DESCRIPTION:
URL:https://nokelverum.no/arrangement/trygg-grunn-balanse-gruppe-12-30-13-30/
ATTACH;FMTTYPE=image/jpeg:https://nokelverum.no/wp-content/uploads/sites/3/2025/12/579650260_895845926106312_946220842271268977_n.jpg
END:VEVENT
BEGIN:VEVENT
DTSTART;TZID=Europe/Oslo:20251210T123000
DTEND;TZID=Europe/Oslo:20251210T133000
DTSTAMP:20260424T175804
CREATED:20251202T114559Z
LAST-MODIFIED:20251202T114559Z
UID:6121-1765369800-1765373400@nokelverum.no
SUMMARY:TRYGG GRUNN BALANSE GRUPPE 12.30 - SISTE FØR JUL-
DESCRIPTION:
URL:https://nokelverum.no/arrangement/trygg-grunn-balanse-gruppe-12-30-siste-for-jul/
ATTACH;FMTTYPE=image/jpeg:https://nokelverum.no/wp-content/uploads/sites/3/2025/12/579650260_895845926106312_946220842271268977_n.jpg
END:VEVENT
BEGIN:VEVENT
DTSTART;VALUE=DATE:20251222
DTEND;VALUE=DATE:20260106
DTSTAMP:20260424T175804
CREATED:20251202T114951Z
LAST-MODIFIED:20251202T114951Z
UID:6123-1766361600-1767657599@nokelverum.no
SUMMARY:JULEFERIE - SENTERET STENGT
DESCRIPTION:Under juleferien henviser vi til VO linja på 116 006 ( chat og samtaletjeneste) og landsdekkende hjelpetelefon som er døgnåpen på 800 57 000. \nPå nettsiden www.dinuvei.no vil du finne oversikt over alle hjelpetilbud innenfor vold og overgrep og hva som er åpent i høytiden. \nDu kan også sende en epost til post@nokelverum.no så tar vi kontakt med deg i januar.
URL:https://nokelverum.no/arrangement/juleferie-senteret-stengt/
END:VEVENT
END:VCALENDAR