BEGIN:VCALENDAR
VERSION:2.0
PRODID:-//Nok. Elverum - ECPv6.15.20//NONSGML v1.0//EN
CALSCALE:GREGORIAN
METHOD:PUBLISH
X-WR-CALNAME:Nok. Elverum
X-ORIGINAL-URL:https://nokelverum.no
X-WR-CALDESC:Arrangement for Nok. Elverum
REFRESH-INTERVAL;VALUE=DURATION:PT1H
X-Robots-Tag:noindex
X-PUBLISHED-TTL:PT1H
BEGIN:VTIMEZONE
TZID:Europe/Oslo
BEGIN:DAYLIGHT
TZOFFSETFROM:+0100
TZOFFSETTO:+0200
TZNAME:CEST
DTSTART:20230326T010000
END:DAYLIGHT
BEGIN:STANDARD
TZOFFSETFROM:+0200
TZOFFSETTO:+0100
TZNAME:CET
DTSTART:20231029T010000
END:STANDARD
BEGIN:DAYLIGHT
TZOFFSETFROM:+0100
TZOFFSETTO:+0200
TZNAME:CEST
DTSTART:20240331T010000
END:DAYLIGHT
BEGIN:STANDARD
TZOFFSETFROM:+0200
TZOFFSETTO:+0100
TZNAME:CET
DTSTART:20241027T010000
END:STANDARD
BEGIN:DAYLIGHT
TZOFFSETFROM:+0100
TZOFFSETTO:+0200
TZNAME:CEST
DTSTART:20250330T010000
END:DAYLIGHT
BEGIN:STANDARD
TZOFFSETFROM:+0200
TZOFFSETTO:+0100
TZNAME:CET
DTSTART:20251026T010000
END:STANDARD
END:VTIMEZONE
BEGIN:VEVENT
DTSTART;TZID=Europe/Oslo:20240822T140000
DTEND;TZID=Europe/Oslo:20240822T150000
DTSTAMP:20260425T133158
CREATED:20240807T144534Z
LAST-MODIFIED:20240807T144552Z
UID:5753-1724335200-1724338800@nokelverum.no
SUMMARY:Traumetilpasset yogagruppe- Oppstart høst semester kl 14-15
DESCRIPTION:Første gruppe etter sommerferien blir 22. aug kl 14 i 2 etg. Fra nå av blir dette kun et fysisk gruppetilbud og ikke lenger streamet online. Dette er på grunn av GDPR lovgivning som setter store begrensninger i den type aktivitet når det også er opptak som blir lagret i Facebook gruppen. Derfor vil den nettbaserte gruppen og aktiviteten legges ned med virkning fra 01.09.  \nAnette Berger fra Modaka er fortsatt hovedinstruktør og vår Anette Sveen er med fra Nok.Elverum.\nÅ delta på dette gruppetilbudet fysisk vil sikre at man får den beste tilpasningen til nettopp seg og vi tror også at utbytte av timene vil bli mye bedre. Varmt velkommen.
URL:https://nokelverum.no/arrangement/traumetilpasset-yogagruppe-oppstart-host-semester-kl14-00-15/
END:VEVENT
BEGIN:VEVENT
DTSTART;TZID=Europe/Oslo:20240829T140000
DTEND;TZID=Europe/Oslo:20240829T150000
DTSTAMP:20260425T133158
CREATED:20240807T144710Z
LAST-MODIFIED:20240807T144710Z
UID:5756-1724940000-1724943600@nokelverum.no
SUMMARY:Traumetilpasset yogagruppe 2 etg. kl 14-15. Fysisk oppmøte
DESCRIPTION:
URL:https://nokelverum.no/arrangement/traumetilpasset-yogagruppe-2-etg-kl-14-15-fysisk-oppmote/
END:VEVENT
END:VCALENDAR