BEGIN:VCALENDAR
VERSION:2.0
PRODID:-//Nok. Elverum - ECPv6.15.20//NONSGML v1.0//EN
CALSCALE:GREGORIAN
METHOD:PUBLISH
X-ORIGINAL-URL:https://nokelverum.no
X-WR-CALDESC:Arrangement for Nok. Elverum
REFRESH-INTERVAL;VALUE=DURATION:PT1H
X-Robots-Tag:noindex
X-PUBLISHED-TTL:PT1H
BEGIN:VTIMEZONE
TZID:Europe/Oslo
BEGIN:DAYLIGHT
TZOFFSETFROM:+0100
TZOFFSETTO:+0200
TZNAME:CEST
DTSTART:20230326T010000
END:DAYLIGHT
BEGIN:STANDARD
TZOFFSETFROM:+0200
TZOFFSETTO:+0100
TZNAME:CET
DTSTART:20231029T010000
END:STANDARD
BEGIN:DAYLIGHT
TZOFFSETFROM:+0100
TZOFFSETTO:+0200
TZNAME:CEST
DTSTART:20240331T010000
END:DAYLIGHT
BEGIN:STANDARD
TZOFFSETFROM:+0200
TZOFFSETTO:+0100
TZNAME:CET
DTSTART:20241027T010000
END:STANDARD
BEGIN:DAYLIGHT
TZOFFSETFROM:+0100
TZOFFSETTO:+0200
TZNAME:CEST
DTSTART:20250330T010000
END:DAYLIGHT
BEGIN:STANDARD
TZOFFSETFROM:+0200
TZOFFSETTO:+0100
TZNAME:CET
DTSTART:20251026T010000
END:STANDARD
END:VTIMEZONE
BEGIN:VEVENT
DTSTART;TZID=Europe/Oslo:20240618T080000
DTEND;TZID=Europe/Oslo:20240618T150000
DTSTAMP:20260425T195824
CREATED:20240623T144456Z
LAST-MODIFIED:20240623T144456Z
UID:5697-1718697600-1718722800@nokelverum.no
SUMMARY:FØRSTEHJELPSKURS
DESCRIPTION:
URL:https://nokelverum.no/arrangement/forstehjelpskurs/
END:VEVENT
BEGIN:VEVENT
DTSTART;TZID=Europe/Oslo:20240626T130000
DTEND;TZID=Europe/Oslo:20240626T143000
DTSTAMP:20260425T195824
CREATED:20240623T142655Z
LAST-MODIFIED:20240623T154915Z
UID:5688-1719406800-1719412200@nokelverum.no
SUMMARY:Besøk fra justis og beredskapsminister Enger Mehl
DESCRIPTION:Vi ser frem til å vise Enger Mehl sitt lokale Nok.senter – og fortelle om vårt samarbeid med overgrepsmottaket på Elverum sykehus \nBakgrunnen til invitasjonen er NOU:24:4 Voldtekt – et uløst samfunnsproblem som ble lagt frem av Voldektsutvalget 8 mars i år. \nDer kan man lese om hva myndighetene kan gjøre for å forebygge voldtekt og gi voldteksutsatte bedre hjelp. Utvalget rettet kritikk mot myndighetenes manglende innsats for å hindre at voldtekt og seksuelle overgrep skjer\, og peker også på at hjelpetilbudet til dem som har vært utsatt er svært mangefullt og sårbart over hele landet. Rapporten ønsker seg bedre samarbeid om målgruppen mellom instansene.  \nDe nye omfangsundersøkelsene (NKVTS og OsloMet) fra 2023 viser et dystert bilde når hver femte kvinne er utsatt for voldtekt og hver fjerde ungdom under 18 år oppgir å ha vært utsatt for seksuell vold- så dette gjelder mange. I tilegg vet vi at mørketallene er store – dette er et skjult samfunns og folkehelseproblem.  \nI rapporten kommer utvalget med mange gode anbefalinger til tiltak – deriblant å styrke Nok og Smiso sentrene i landet. Disse sentrene er over hele landet og har lang erfaring i å jobbe med overgrepstematikk\, de har spisskompetansen som trengs\, ingen berøringsangst for temaet og de kjenner sine regioner og øvrig hjelpeapparat godt.  \nMed dette besøket ønsker vi å vise frem en vellykket samarbeidsmodell mellom Nok.Elverum og Elverum sykehus sitt overgrepsmottak som hun kan ta med seg som et samarbeidseksempel inn i det videre arbeiedet med NOU`en. Modellen startet i Elverum og ble raskt videreført slik at den også dekker Lillehammer sitt overgrepsmottak og oppfølgingssamarbeid med Nok.sentrene i Hamar og Gjøvik.  \nVed å lene seg på og styrke etablerte strukturer ved å knytte landets Nok.-sentre opp mot landets overgrepsmottak har man raskt laget en samhandlingsmodell for hele landet.  En modell som fra dag 1 vil kunne fange opp alle som oppsøker et mottak etter voldtekt og gi et raskt tilbud om psykososial oppfølging\, i tilegg til å kunne gi et tilbud til pårørende.
URL:https://nokelverum.no/arrangement/besok-fra-justis-og-beredskapsminister-enger-mehl/
END:VEVENT
BEGIN:VEVENT
DTSTART;TZID=Europe/Oslo:20240627T140000
DTEND;TZID=Europe/Oslo:20240627T150000
DTSTAMP:20260425T195824
CREATED:20240623T144227Z
LAST-MODIFIED:20240623T144227Z
UID:5693-1719496800-1719500400@nokelverum.no
SUMMARY:Traumetilpasset yogagruppe
DESCRIPTION:
URL:https://nokelverum.no/arrangement/traumetilpasset-yogagruppe/
END:VEVENT
END:VCALENDAR