BEGIN:VCALENDAR
VERSION:2.0
PRODID:-//Nok. Elverum - ECPv6.15.20//NONSGML v1.0//EN
CALSCALE:GREGORIAN
METHOD:PUBLISH
X-ORIGINAL-URL:https://nokelverum.no
X-WR-CALDESC:Arrangement for Nok. Elverum
REFRESH-INTERVAL;VALUE=DURATION:PT1H
X-Robots-Tag:noindex
X-PUBLISHED-TTL:PT1H
BEGIN:VTIMEZONE
TZID:Europe/Oslo
BEGIN:DAYLIGHT
TZOFFSETFROM:+0100
TZOFFSETTO:+0200
TZNAME:CEST
DTSTART:20230326T010000
END:DAYLIGHT
BEGIN:STANDARD
TZOFFSETFROM:+0200
TZOFFSETTO:+0100
TZNAME:CET
DTSTART:20231029T010000
END:STANDARD
BEGIN:DAYLIGHT
TZOFFSETFROM:+0100
TZOFFSETTO:+0200
TZNAME:CEST
DTSTART:20240331T010000
END:DAYLIGHT
BEGIN:STANDARD
TZOFFSETFROM:+0200
TZOFFSETTO:+0100
TZNAME:CET
DTSTART:20241027T010000
END:STANDARD
BEGIN:DAYLIGHT
TZOFFSETFROM:+0100
TZOFFSETTO:+0200
TZNAME:CEST
DTSTART:20250330T010000
END:DAYLIGHT
BEGIN:STANDARD
TZOFFSETFROM:+0200
TZOFFSETTO:+0100
TZNAME:CET
DTSTART:20251026T010000
END:STANDARD
END:VTIMEZONE
BEGIN:VEVENT
DTSTART;VALUE=DATE:20240326
DTEND;VALUE=DATE:20240402
DTSTAMP:20260426T015947
CREATED:20240303T111310Z
LAST-MODIFIED:20240303T111310Z
UID:5587-1711411200-1712015999@nokelverum.no
SUMMARY:Skolens påskeferie. Vi holder lukket fra tirsdag 26 mars til og med mandag 1 april.  GOD PÅSKE!
DESCRIPTION:Ingen yoga gruppe denne uke.\nGOD PÅSKE!
URL:https://nokelverum.no/arrangement/skolens-paskeferie-vi-holder-lukket-fra-tirsdag-26-mars-til-og-med-mandag-1-april-god-paske/
END:VEVENT
BEGIN:VEVENT
DTSTART;TZID=Europe/Oslo:20240404T140000
DTEND;TZID=Europe/Oslo:20240404T150000
DTSTAMP:20260426T015947
CREATED:20240204T110044Z
LAST-MODIFIED:20240204T110044Z
UID:5569-1712239200-1712242800@nokelverum.no
SUMMARY:Traumsensitiv yogagruppe kl 14.00 - 15-.00
DESCRIPTION:
URL:https://nokelverum.no/arrangement/traumsensitiv-yogagruppe-kl-14-00-15-00/
END:VEVENT
BEGIN:VEVENT
DTSTART;TZID=Europe/Oslo:20240411T140000
DTEND;TZID=Europe/Oslo:20240411T150000
DTSTAMP:20260426T015947
CREATED:20240303T111559Z
LAST-MODIFIED:20240303T111559Z
UID:5591-1712844000-1712847600@nokelverum.no
SUMMARY:Traumebevisst yogagruppe kl 14-15
DESCRIPTION:
URL:https://nokelverum.no/arrangement/traumebevisst-yogagruppe-kl-14-15-4/
END:VEVENT
BEGIN:VEVENT
DTSTART;TZID=Europe/Oslo:20240418T140000
DTEND;TZID=Europe/Oslo:20240418T150000
DTSTAMP:20260426T015947
CREATED:20240303T111642Z
LAST-MODIFIED:20240303T111642Z
UID:5593-1713448800-1713452400@nokelverum.no
SUMMARY:Traumebevisst yogagruppe kl 14-15
DESCRIPTION:
URL:https://nokelverum.no/arrangement/traumebevisst-yogagruppe-kl-14-15-5/
END:VEVENT
BEGIN:VEVENT
DTSTART;TZID=Europe/Oslo:20240424T123000
DTEND;TZID=Europe/Oslo:20240424T133000
DTSTAMP:20260426T015948
CREATED:20240204T105935Z
LAST-MODIFIED:20240204T105935Z
UID:5567-1713961800-1713965400@nokelverum.no
SUMMARY:Åpent hus 12.30
DESCRIPTION:
URL:https://nokelverum.no/arrangement/apent-hus-12-30/
END:VEVENT
BEGIN:VEVENT
DTSTART;TZID=Europe/Oslo:20240425T140000
DTEND;TZID=Europe/Oslo:20240425T150000
DTSTAMP:20260426T015948
CREATED:20240303T111736Z
LAST-MODIFIED:20240303T111736Z
UID:5595-1714053600-1714057200@nokelverum.no
SUMMARY:Traumebevisst yogagruppe kl 14-15
DESCRIPTION:
URL:https://nokelverum.no/arrangement/traumebevisst-yogagruppe-kl-14-15-6/
END:VEVENT
END:VCALENDAR