BEGIN:VCALENDAR
VERSION:2.0
PRODID:-//Nok. Elverum - ECPv6.15.20//NONSGML v1.0//EN
CALSCALE:GREGORIAN
METHOD:PUBLISH
X-WR-CALNAME:Nok. Elverum
X-ORIGINAL-URL:https://nokelverum.no
X-WR-CALDESC:Arrangement for Nok. Elverum
REFRESH-INTERVAL;VALUE=DURATION:PT1H
X-Robots-Tag:noindex
X-PUBLISHED-TTL:PT1H
BEGIN:VTIMEZONE
TZID:Europe/Oslo
BEGIN:DAYLIGHT
TZOFFSETFROM:+0100
TZOFFSETTO:+0200
TZNAME:CEST
DTSTART:20230326T010000
END:DAYLIGHT
BEGIN:STANDARD
TZOFFSETFROM:+0200
TZOFFSETTO:+0100
TZNAME:CET
DTSTART:20231029T010000
END:STANDARD
BEGIN:DAYLIGHT
TZOFFSETFROM:+0100
TZOFFSETTO:+0200
TZNAME:CEST
DTSTART:20240331T010000
END:DAYLIGHT
BEGIN:STANDARD
TZOFFSETFROM:+0200
TZOFFSETTO:+0100
TZNAME:CET
DTSTART:20241027T010000
END:STANDARD
BEGIN:DAYLIGHT
TZOFFSETFROM:+0100
TZOFFSETTO:+0200
TZNAME:CEST
DTSTART:20250330T010000
END:DAYLIGHT
BEGIN:STANDARD
TZOFFSETFROM:+0200
TZOFFSETTO:+0100
TZNAME:CET
DTSTART:20251026T010000
END:STANDARD
END:VTIMEZONE
BEGIN:VEVENT
DTSTART;TZID=Europe/Oslo:20240306T100000
DTEND;TZID=Europe/Oslo:20240306T113000
DTSTAMP:20260426T032056
CREATED:20240115T124138Z
LAST-MODIFIED:20240115T124138Z
UID:5533-1709719200-1709724600@nokelverum.no
SUMMARY:3. samling i sanse og reguleringsgruppe
DESCRIPTION:
URL:https://nokelverum.no/arrangement/3-samling-i-sanse-og-reguleringsgruppe/
END:VEVENT
BEGIN:VEVENT
DTSTART;TZID=Europe/Oslo:20240307T140000
DTEND;TZID=Europe/Oslo:20240307T150000
DTSTAMP:20260426T032056
CREATED:20240204T105459Z
LAST-MODIFIED:20240204T105459Z
UID:5559-1709820000-1709823600@nokelverum.no
SUMMARY:Traumesensitiv yogagruppe kl 14-15
DESCRIPTION:
URL:https://nokelverum.no/arrangement/traumesensitiv-yogagruppe-kl-14-15-6/
END:VEVENT
BEGIN:VEVENT
DTSTART;TZID=Europe/Oslo:20240313T100000
DTEND;TZID=Europe/Oslo:20240313T113000
DTSTAMP:20260426T032056
CREATED:20240115T124227Z
LAST-MODIFIED:20240115T124227Z
UID:5535-1710324000-1710329400@nokelverum.no
SUMMARY:4.samling i sanse og reguleringsgruppe
DESCRIPTION:
URL:https://nokelverum.no/arrangement/4-samling-i-sanse-og-reguleringsgruppe/
END:VEVENT
BEGIN:VEVENT
DTSTART;TZID=Europe/Oslo:20240314T140000
DTEND;TZID=Europe/Oslo:20240314T150000
DTSTAMP:20260426T032056
CREATED:20240204T105629Z
LAST-MODIFIED:20240204T105629Z
UID:5561-1710424800-1710428400@nokelverum.no
SUMMARY:Traumesensitiv yogagruppe kl 14-15
DESCRIPTION:
URL:https://nokelverum.no/arrangement/traumesensitiv-yogagruppe-kl-14-15-7/
END:VEVENT
BEGIN:VEVENT
DTSTART;TZID=Europe/Oslo:20240320T100000
DTEND;TZID=Europe/Oslo:20240320T113000
DTSTAMP:20260426T032056
CREATED:20240115T124318Z
LAST-MODIFIED:20240115T124318Z
UID:5537-1710928800-1710934200@nokelverum.no
SUMMARY:5. og siste samling i sanse og reguleringsgruppe
DESCRIPTION:
URL:https://nokelverum.no/arrangement/5-og-siste-samling-i-sanse-og-reguleringsgruppe/
END:VEVENT
BEGIN:VEVENT
DTSTART;TZID=Europe/Oslo:20240321T140000
DTEND;TZID=Europe/Oslo:20240321T150000
DTSTAMP:20260426T032056
CREATED:20240204T105713Z
LAST-MODIFIED:20240204T105713Z
UID:5563-1711029600-1711033200@nokelverum.no
SUMMARY:Traumsensitiv yogagruppe kl 14-15
DESCRIPTION:
URL:https://nokelverum.no/arrangement/traumsensitiv-yogagruppe-kl-14-15/
END:VEVENT
BEGIN:VEVENT
DTSTART;VALUE=DATE:20240326
DTEND;VALUE=DATE:20240402
DTSTAMP:20260426T032056
CREATED:20240303T111310Z
LAST-MODIFIED:20240303T111310Z
UID:5587-1711411200-1712015999@nokelverum.no
SUMMARY:Skolens påskeferie. Vi holder lukket fra tirsdag 26 mars til og med mandag 1 april.  GOD PÅSKE!
DESCRIPTION:Ingen yoga gruppe denne uke.\nGOD PÅSKE!
URL:https://nokelverum.no/arrangement/skolens-paskeferie-vi-holder-lukket-fra-tirsdag-26-mars-til-og-med-mandag-1-april-god-paske/
END:VEVENT
END:VCALENDAR