BEGIN:VCALENDAR
VERSION:2.0
PRODID:-//Nok. Elverum - ECPv6.15.20//NONSGML v1.0//EN
CALSCALE:GREGORIAN
METHOD:PUBLISH
X-ORIGINAL-URL:https://nokelverum.no
X-WR-CALDESC:Arrangement for Nok. Elverum
REFRESH-INTERVAL;VALUE=DURATION:PT1H
X-Robots-Tag:noindex
X-PUBLISHED-TTL:PT1H
BEGIN:VTIMEZONE
TZID:Europe/Oslo
BEGIN:DAYLIGHT
TZOFFSETFROM:+0100
TZOFFSETTO:+0200
TZNAME:CEST
DTSTART:20230326T010000
END:DAYLIGHT
BEGIN:STANDARD
TZOFFSETFROM:+0200
TZOFFSETTO:+0100
TZNAME:CET
DTSTART:20231029T010000
END:STANDARD
BEGIN:DAYLIGHT
TZOFFSETFROM:+0100
TZOFFSETTO:+0200
TZNAME:CEST
DTSTART:20240331T010000
END:DAYLIGHT
BEGIN:STANDARD
TZOFFSETFROM:+0200
TZOFFSETTO:+0100
TZNAME:CET
DTSTART:20241027T010000
END:STANDARD
BEGIN:DAYLIGHT
TZOFFSETFROM:+0100
TZOFFSETTO:+0200
TZNAME:CEST
DTSTART:20250330T010000
END:DAYLIGHT
BEGIN:STANDARD
TZOFFSETFROM:+0200
TZOFFSETTO:+0100
TZNAME:CET
DTSTART:20251026T010000
END:STANDARD
END:VTIMEZONE
BEGIN:VEVENT
DTSTART;TZID=Europe/Oslo:20240201T140000
DTEND;TZID=Europe/Oslo:20240201T150000
DTSTAMP:20260426T062543
CREATED:20240103T080712Z
LAST-MODIFIED:20240103T080712Z
UID:5514-1706796000-1706799600@nokelverum.no
SUMMARY:Traumesensitiv yogagruppe kl 14-15
DESCRIPTION:Gruppa går hver torsdag kl 14 frem til sommeren – utenom skolens ferieuker
URL:https://nokelverum.no/arrangement/traumesensitiv-yogagruppe-kl-14-15-4/
END:VEVENT
BEGIN:VEVENT
DTSTART;TZID=Europe/Oslo:20240204T080000
DTEND;TZID=Europe/Oslo:20240204T170000
DTSTAMP:20260426T062543
CREATED:20240204T105739Z
LAST-MODIFIED:20240204T105739Z
UID:5565-1707033600-1707066000@nokelverum.no
SUMMARY:Påskeferie - ingen yogagruppe i dag
DESCRIPTION:
URL:https://nokelverum.no/arrangement/paskeferie-ingen-yogagruppe-i-dag/
END:VEVENT
BEGIN:VEVENT
DTSTART;TZID=Europe/Oslo:20240208T140000
DTEND;TZID=Europe/Oslo:20240208T150000
DTSTAMP:20260426T062543
CREATED:20240204T105031Z
LAST-MODIFIED:20240204T105031Z
UID:5551-1707400800-1707404400@nokelverum.no
SUMMARY:Traumesenstiv yogagruppe kl 14
DESCRIPTION:
URL:https://nokelverum.no/arrangement/traumesenstiv-yogagruppe-kl-14/
END:VEVENT
BEGIN:VEVENT
DTSTART;TZID=Europe/Oslo:20240215T140000
DTEND;TZID=Europe/Oslo:20240215T150000
DTSTAMP:20260426T062543
CREATED:20240204T105140Z
LAST-MODIFIED:20240204T105140Z
UID:5553-1708005600-1708009200@nokelverum.no
SUMMARY:Traumesensitiv yogagruppe kl 14-15
DESCRIPTION:
URL:https://nokelverum.no/arrangement/traumesensitiv-yogagruppe-kl-14-15-5/
END:VEVENT
BEGIN:VEVENT
DTSTART;TZID=Europe/Oslo:20240221T100000
DTEND;TZID=Europe/Oslo:20240221T113000
DTSTAMP:20260426T062543
CREATED:20240115T123738Z
LAST-MODIFIED:20240115T123906Z
UID:5525-1708509600-1708515000@nokelverum.no
SUMMARY:Oppstartssamling sanse og reguleringsgruppe
DESCRIPTION:Første av 5 samlinger i sanse og reguleringsgruppen «Fra sans til samling». Denne runden er det Sara og Tove som er kursledere. Samlingene foregår i 2 etg i vårt kursrom der og går over 5 kurssamlinger.
URL:https://nokelverum.no/arrangement/oppstartssamling-sanse-og-reguleringsgruppe/
END:VEVENT
BEGIN:VEVENT
DTSTART;TZID=Europe/Oslo:20240222T140000
DTEND;TZID=Europe/Oslo:20240222T150000
DTSTAMP:20260426T062543
CREATED:20240204T105304Z
LAST-MODIFIED:20240204T105304Z
UID:5555-1708610400-1708614000@nokelverum.no
SUMMARY:Traumesensitiv yogagruppe kl 14 til 15
DESCRIPTION:
URL:https://nokelverum.no/arrangement/traumesensitiv-yogagruppe-kl-14-til-15/
END:VEVENT
BEGIN:VEVENT
DTSTART;TZID=Europe/Oslo:20240228T100000
DTEND;TZID=Europe/Oslo:20240228T113000
DTSTAMP:20260426T062543
CREATED:20240115T123950Z
LAST-MODIFIED:20240115T123950Z
UID:5529-1709114400-1709119800@nokelverum.no
SUMMARY:2. samling i sanse og reguleringsgruppe
DESCRIPTION:
URL:https://nokelverum.no/arrangement/2-samling-i-sanse-og-reguleringsgruppe/
END:VEVENT
BEGIN:VEVENT
DTSTART;TZID=Europe/Oslo:20240228T123000
DTEND;TZID=Europe/Oslo:20240228T133000
DTSTAMP:20260426T062543
CREATED:20240115T124035Z
LAST-MODIFIED:20240115T124035Z
UID:5531-1709123400-1709127000@nokelverum.no
SUMMARY:Åpent hus
DESCRIPTION:
URL:https://nokelverum.no/arrangement/apent-hus-2/
END:VEVENT
BEGIN:VEVENT
DTSTART;TZID=Europe/Oslo:20240229T140000
DTEND;TZID=Europe/Oslo:20240229T150000
DTSTAMP:20260426T062543
CREATED:20240204T105400Z
LAST-MODIFIED:20240204T105400Z
UID:5557-1709215200-1709218800@nokelverum.no
SUMMARY:Skolens vinterferie- ingen yogagruppe.
DESCRIPTION:
URL:https://nokelverum.no/arrangement/skolens-vinterferie-ingen-yogagruppe/
END:VEVENT
END:VCALENDAR